BEGIN:VCALENDAR
VERSION:2.0
PRODID:-//MGV &quot;Eintracht&quot; Walpersbach - ECPv6.15.12.2//NONSGML v1.0//EN
CALSCALE:GREGORIAN
METHOD:PUBLISH
X-WR-CALNAME:MGV &quot;Eintracht&quot; Walpersbach
X-ORIGINAL-URL:https://www.mgv-walpersbach.at
X-WR-CALDESC:Veranstaltungen für MGV &quot;Eintracht&quot; Walpersbach
REFRESH-INTERVAL;VALUE=DURATION:PT1H
X-Robots-Tag:noindex
X-PUBLISHED-TTL:PT1H
BEGIN:VTIMEZONE
TZID:Europe/Paris
BEGIN:DAYLIGHT
TZOFFSETFROM:+0100
TZOFFSETTO:+0200
TZNAME:CEST
DTSTART:20190331T010000
END:DAYLIGHT
BEGIN:STANDARD
TZOFFSETFROM:+0200
TZOFFSETTO:+0100
TZNAME:CET
DTSTART:20191027T010000
END:STANDARD
BEGIN:DAYLIGHT
TZOFFSETFROM:+0100
TZOFFSETTO:+0200
TZNAME:CEST
DTSTART:20200329T010000
END:DAYLIGHT
BEGIN:STANDARD
TZOFFSETFROM:+0200
TZOFFSETTO:+0100
TZNAME:CET
DTSTART:20201025T010000
END:STANDARD
BEGIN:DAYLIGHT
TZOFFSETFROM:+0100
TZOFFSETTO:+0200
TZNAME:CEST
DTSTART:20210328T010000
END:DAYLIGHT
BEGIN:STANDARD
TZOFFSETFROM:+0200
TZOFFSETTO:+0100
TZNAME:CET
DTSTART:20211031T010000
END:STANDARD
BEGIN:DAYLIGHT
TZOFFSETFROM:+0100
TZOFFSETTO:+0200
TZNAME:CEST
DTSTART:20220327T010000
END:DAYLIGHT
BEGIN:STANDARD
TZOFFSETFROM:+0200
TZOFFSETTO:+0100
TZNAME:CET
DTSTART:20221030T010000
END:STANDARD
BEGIN:DAYLIGHT
TZOFFSETFROM:+0100
TZOFFSETTO:+0200
TZNAME:CEST
DTSTART:20230326T010000
END:DAYLIGHT
BEGIN:STANDARD
TZOFFSETFROM:+0200
TZOFFSETTO:+0100
TZNAME:CET
DTSTART:20231029T010000
END:STANDARD
BEGIN:DAYLIGHT
TZOFFSETFROM:+0100
TZOFFSETTO:+0200
TZNAME:CEST
DTSTART:20240331T010000
END:DAYLIGHT
BEGIN:STANDARD
TZOFFSETFROM:+0200
TZOFFSETTO:+0100
TZNAME:CET
DTSTART:20241027T010000
END:STANDARD
BEGIN:DAYLIGHT
TZOFFSETFROM:+0100
TZOFFSETTO:+0200
TZNAME:CEST
DTSTART:20250330T010000
END:DAYLIGHT
BEGIN:STANDARD
TZOFFSETFROM:+0200
TZOFFSETTO:+0100
TZNAME:CET
DTSTART:20251026T010000
END:STANDARD
BEGIN:DAYLIGHT
TZOFFSETFROM:+0100
TZOFFSETTO:+0200
TZNAME:CEST
DTSTART:20260329T010000
END:DAYLIGHT
BEGIN:STANDARD
TZOFFSETFROM:+0200
TZOFFSETTO:+0100
TZNAME:CET
DTSTART:20261025T010000
END:STANDARD
END:VTIMEZONE
BEGIN:VEVENT
DTSTART;TZID=Europe/Paris:20250222T213000
DTEND;TZID=Europe/Paris:20250223T030000
DTSTAMP:20260424T122001
CREATED:20250218T115353Z
LAST-MODIFIED:20250224T112522Z
UID:4867-1740259800-1740279600@www.mgv-walpersbach.at
SUMMARY:Sängergschnas 2025
DESCRIPTION:G`schnas 2025
URL:https://www.mgv-walpersbach.at/event/saengergschnas-2025/
LOCATION:Pfarr- und Gemeindezentrum\, Walpersbach\, Österreich
CATEGORIES:Veranstaltungen
END:VEVENT
BEGIN:VEVENT
DTSTART;TZID=Europe/Paris:20241006T110000
DTEND;TZID=Europe/Paris:20241006T150000
DTSTAMP:20260424T122001
CREATED:20240926T072247Z
LAST-MODIFIED:20240926T072247Z
UID:4855-1728212400-1728226800@www.mgv-walpersbach.at
SUMMARY:Herbstwanderung 2024
DESCRIPTION:Herbstwanderung 2024
URL:https://www.mgv-walpersbach.at/event/herbstwanderung-2024/
LOCATION:Walpersbach
END:VEVENT
BEGIN:VEVENT
DTSTART;TZID=Europe/Paris:20240530T160000
DTEND;TZID=Europe/Paris:20240530T180000
DTSTAMP:20260424T122001
CREATED:20240926T070121Z
LAST-MODIFIED:20240926T070121Z
UID:4847-1717084800-1717092000@www.mgv-walpersbach.at
SUMMARY:Seniorennachmittag 2024
DESCRIPTION:Mitwirkende: MGV Edlitz\, Gospelchor Veritas aus Lanzenkirchen\, Franz Schubert Regionalmusikschule. 
URL:https://www.mgv-walpersbach.at/event/seniorennachmittag-2024/
LOCATION:Pfarr- und Gemeindezentrum\, Walpersbach\, Österreich
CATEGORIES:Gesangsvorführungen
END:VEVENT
BEGIN:VEVENT
DTSTART;TZID=Europe/Paris:20240520T103000
DTEND;TZID=Europe/Paris:20240520T113000
DTSTAMP:20260424T122001
CREATED:20240926T070452Z
LAST-MODIFIED:20240926T070452Z
UID:4851-1716201000-1716204600@www.mgv-walpersbach.at
SUMMARY:Kirtag Schleinz – Mitgestaltung der Hl. Messe
DESCRIPTION:
URL:https://www.mgv-walpersbach.at/event/kirtag-schleinz-mitgestaltung-der-hl-messe-3/
LOCATION:Kapelle in Schleinz\, Österreich
CATEGORIES:Gottesdienst
END:VEVENT
BEGIN:VEVENT
DTSTART;TZID=Europe/Paris:20240505T093000
DTEND;TZID=Europe/Paris:20240505T103000
DTSTAMP:20260424T122001
CREATED:20240926T071234Z
LAST-MODIFIED:20240926T071234Z
UID:4853-1714901400-1714905000@www.mgv-walpersbach.at
SUMMARY:MGV Messe
DESCRIPTION:Jährlicher Gottesdienst zum Andenken verstorbener Sangesbrüder.
URL:https://www.mgv-walpersbach.at/event/mgv-messe/
LOCATION:Pfarrkirche Walpersbach\, Österreich
CATEGORIES:Gottesdienst
END:VEVENT
BEGIN:VEVENT
DTSTART;TZID=Europe/Paris:20240310T110000
DTEND;TZID=Europe/Paris:20240310T130000
DTSTAMP:20260424T122001
CREATED:20240926T064936Z
LAST-MODIFIED:20240926T064936Z
UID:4845-1710068400-1710075600@www.mgv-walpersbach.at
SUMMARY:MGV Generalversammlung 2024
DESCRIPTION:
URL:https://www.mgv-walpersbach.at/event/mgv-generalversammlung-2024/
LOCATION:Gasthaus Bretterecker\, Walpersbach
CATEGORIES:Veranstaltungen
END:VEVENT
BEGIN:VEVENT
DTSTART;TZID=Europe/Paris:20240127T213000
DTEND;TZID=Europe/Paris:20240128T213000
DTSTAMP:20260424T122001
CREATED:20240110T162831Z
LAST-MODIFIED:20240110T162831Z
UID:4830-1706391000-1706477400@www.mgv-walpersbach.at
SUMMARY:SÄNGERGSCHNAS 2024
DESCRIPTION:
URL:https://www.mgv-walpersbach.at/event/saengergschnas-2024/
LOCATION:Pfarr- und Gemeindezentrum\, Walpersbach\, Österreich
END:VEVENT
BEGIN:VEVENT
DTSTART;TZID=Europe/Paris:20231209T190000
DTEND;TZID=Europe/Paris:20231209T200000
DTSTAMP:20260424T122001
CREATED:20230121T151115Z
LAST-MODIFIED:20230121T151122Z
UID:4468-1702148400-1702152000@www.mgv-walpersbach.at
SUMMARY:Adventmesse
DESCRIPTION:anschließend MGV-Jahresabschluss
URL:https://www.mgv-walpersbach.at/event/adventmesse/
LOCATION:Pfarrkirche Walpersbach\, Österreich
CATEGORIES:Gottesdienst
END:VEVENT
BEGIN:VEVENT
DTSTART;TZID=Europe/Paris:20231208T160000
DTEND;TZID=Europe/Paris:20231208T170000
DTSTAMP:20260424T122001
CREATED:20230121T151211Z
LAST-MODIFIED:20230121T151217Z
UID:4466-1702051200-1702054800@www.mgv-walpersbach.at
SUMMARY:Adventkonzert
DESCRIPTION:
URL:https://www.mgv-walpersbach.at/event/adventkonzert/
LOCATION:Pfarrkirche Walpersbach\, Österreich
CATEGORIES:Gesangsvorführungen
END:VEVENT
BEGIN:VEVENT
DTSTART;TZID=Europe/Paris:20231026T160000
DTEND;TZID=Europe/Paris:20231026T180000
DTSTAMP:20260424T122001
CREATED:20230121T151156Z
LAST-MODIFIED:20231004T135906Z
UID:4464-1698336000-1698343200@www.mgv-walpersbach.at
SUMMARY:Liedertafel am Nationalfeiertag
DESCRIPTION:Einladung_26. Oktober 2023
URL:https://www.mgv-walpersbach.at/event/liedertafel-am-nationalfeiertag-5/
LOCATION:Pfarr- und Gemeindezentrum\, Walpersbach\, Österreich
CATEGORIES:Gesangsvorführungen
END:VEVENT
BEGIN:VEVENT
DTSTART;TZID=Europe/Paris:20231001T110000
DTEND;TZID=Europe/Paris:20231001T160000
DTSTAMP:20260424T122001
CREATED:20230121T151231Z
LAST-MODIFIED:20231004T144637Z
UID:4462-1696158000-1696176000@www.mgv-walpersbach.at
SUMMARY:Herbstwanderung 2023
DESCRIPTION:Herbstwanderung 2023
URL:https://www.mgv-walpersbach.at/event/herbstwanderung-2023/
CATEGORIES:Wanderungen
END:VEVENT
BEGIN:VEVENT
DTSTART;TZID=Europe/Paris:20230928T090000
DTEND;TZID=Europe/Paris:20230928T180000
DTSTAMP:20260424T122001
CREATED:20231004T150623Z
LAST-MODIFIED:20231004T150623Z
UID:4541-1695891600-1695924000@www.mgv-walpersbach.at
SUMMARY:Wanderung auf die Knofeleben
DESCRIPTION:
URL:https://www.mgv-walpersbach.at/event/wanderung-auf-die-knofeleben/
CATEGORIES:Wanderungen
END:VEVENT
BEGIN:VEVENT
DTSTART;TZID=Europe/Paris:20230608T160000
DTEND;TZID=Europe/Paris:20230608T180000
DTSTAMP:20260424T122001
CREATED:20230121T151248Z
LAST-MODIFIED:20230121T151248Z
UID:4460-1686240000-1686247200@www.mgv-walpersbach.at
SUMMARY:Liedernachmittag mit Einladung der Senioren
DESCRIPTION:
URL:https://www.mgv-walpersbach.at/event/liedernachmittag-mit-einladung-der-senioren/
LOCATION:Pfarr- und Gemeindezentrum\, Walpersbach\, Österreich
CATEGORIES:Gesangsvorführungen
END:VEVENT
BEGIN:VEVENT
DTSTART;TZID=Europe/Paris:20230430T093000
DTEND;TZID=Europe/Paris:20230430T103000
DTSTAMP:20260424T122001
CREATED:20230121T151039Z
LAST-MODIFIED:20230121T151048Z
UID:4458-1682847000-1682850600@www.mgv-walpersbach.at
SUMMARY:Florianimesse
DESCRIPTION:
URL:https://www.mgv-walpersbach.at/event/florianimesse-5/
LOCATION:Pfarrkirche Walpersbach\, Österreich
CATEGORIES:Gottesdienst
END:VEVENT
BEGIN:VEVENT
DTSTART;TZID=Europe/Paris:20230312T110000
DTEND;TZID=Europe/Paris:20230312T130000
DTSTAMP:20260424T122001
CREATED:20230219T080928Z
LAST-MODIFIED:20231004T144848Z
UID:4532-1678618800-1678626000@www.mgv-walpersbach.at
SUMMARY:Generalversammlung 2023
DESCRIPTION:
URL:https://www.mgv-walpersbach.at/event/generalversammlung-2023/
LOCATION:Gasthaus Bretterecker\, Walpersbach
CATEGORIES:Sonstiges
END:VEVENT
BEGIN:VEVENT
DTSTART;TZID=Europe/Paris:20230218T213000
DTEND;TZID=Europe/Paris:20230219T030000
DTSTAMP:20260424T122001
CREATED:20230121T150833Z
LAST-MODIFIED:20230121T150833Z
UID:4456-1676755800-1676775600@www.mgv-walpersbach.at
SUMMARY:Sängergschnas
DESCRIPTION:
URL:https://www.mgv-walpersbach.at/event/saengergschnas/
LOCATION:Pfarr- und Gemeindezentrum\, Walpersbach\, Österreich
CATEGORIES:Veranstaltungen
END:VEVENT
BEGIN:VEVENT
DTSTART;TZID=Europe/Paris:20221208T160000
DTEND;TZID=Europe/Paris:20221208T170000
DTSTAMP:20260424T122001
CREATED:20230121T151016Z
LAST-MODIFIED:20230121T151016Z
UID:4453-1670515200-1670518800@www.mgv-walpersbach.at
SUMMARY:Adventkonzert in Pfarrkirche Walpersbach
DESCRIPTION:
URL:https://www.mgv-walpersbach.at/event/adventkonzert-in-pfarrkirche-walpersbach/
LOCATION:Pfarrkirche Walpersbach\, Österreich
CATEGORIES:Gesangsvorführungen
END:VEVENT
BEGIN:VEVENT
DTSTART;TZID=Europe/Paris:20221026T160000
DTEND;TZID=Europe/Paris:20221026T180000
DTSTAMP:20260424T122001
CREATED:20221012T143008Z
LAST-MODIFIED:20221012T144826Z
UID:4425-1666800000-1666807200@www.mgv-walpersbach.at
SUMMARY:Liedertafel am Nationalfeiertag
DESCRIPTION:26.Oktober 2022 Plakat
URL:https://www.mgv-walpersbach.at/event/liedertafel-am-nationalfeiertag-4/
LOCATION:Pfarr- und Gemeindezentrum\, Walpersbach\, Österreich
CATEGORIES:Gesangsvorführungen
END:VEVENT
BEGIN:VEVENT
DTSTART;TZID=Europe/Paris:20220915T090000
DTEND;TZID=Europe/Paris:20220915T180000
DTSTAMP:20260424T122001
CREATED:20220915T073007Z
LAST-MODIFIED:20220915T073007Z
UID:4412-1663232400-1663264800@www.mgv-walpersbach.at
SUMMARY:Herbstwanderung 2022
DESCRIPTION:Herbstwanderung 2022
URL:https://www.mgv-walpersbach.at/event/herbstwanderung-2022/
END:VEVENT
BEGIN:VEVENT
DTSTART;TZID=Europe/Paris:20220622T203000
DTEND;TZID=Europe/Paris:20220622T220000
DTSTAMP:20260424T122001
CREATED:20220622T062930Z
LAST-MODIFIED:20220623T065308Z
UID:4370-1655929800-1655935200@www.mgv-walpersbach.at
SUMMARY:Letzte Gesangsprobe vor der Sommerpause
DESCRIPTION:
URL:https://www.mgv-walpersbach.at/event/letzte-gesangsprobe-vor-der-sommerpause/
LOCATION:Gasthaus Bretterecker\, Walpersbach
CATEGORIES:Proben
END:VEVENT
BEGIN:VEVENT
DTSTART;TZID=Europe/Paris:20220619T150000
DTEND;TZID=Europe/Paris:20220619T180000
DTSTAMP:20260424T122001
CREATED:20220620T111534Z
LAST-MODIFIED:20220623T065345Z
UID:4301-1655650800-1655661600@www.mgv-walpersbach.at
SUMMARY:Gästesingen beim MGV Edlitz - Grimmenstein - Thomasberg
DESCRIPTION:
URL:https://www.mgv-walpersbach.at/event/gaestesingen-mgv-edlitz-grimmenstein-thomasberg/
LOCATION:Edlitz
CATEGORIES:Gesangsvorführungen
END:VEVENT
BEGIN:VEVENT
DTSTART;TZID=Europe/Paris:20220616T160000
DTEND;TZID=Europe/Paris:20220616T180000
DTSTAMP:20260424T122001
CREATED:20220620T081520Z
LAST-MODIFIED:20220623T065428Z
UID:4299-1655395200-1655402400@www.mgv-walpersbach.at
SUMMARY:Seniorennachmittag 2022
DESCRIPTION: 
URL:https://www.mgv-walpersbach.at/event/seniorennachmittag-2022/
LOCATION:Pfarr- und Gemeindezentrum\, Walpersbach\, Österreich
CATEGORIES:Gesangsvorführungen,Veranstaltungen
END:VEVENT
BEGIN:VEVENT
DTSTART;TZID=Europe/Paris:20220403T113000
DTEND;TZID=Europe/Paris:20220403T130000
DTSTAMP:20260424T122001
CREATED:20220620T065605Z
LAST-MODIFIED:20220620T065605Z
UID:4293-1648985400-1648990800@www.mgv-walpersbach.at
SUMMARY:Generalversammlung 2022
DESCRIPTION:
URL:https://www.mgv-walpersbach.at/event/generalversammlung-2022/
LOCATION:Gasthaus Bretterecker\, Walpersbach
END:VEVENT
BEGIN:VEVENT
DTSTART;TZID=Europe/Paris:20211026T160000
DTEND;TZID=Europe/Paris:20211026T180000
DTSTAMP:20260424T122001
CREATED:20211010T055958Z
LAST-MODIFIED:20211201T171634Z
UID:3690-1635264000-1635271200@www.mgv-walpersbach.at
SUMMARY:Liedertafel zum 115-jährigen Jubiläum
DESCRIPTION:Plakat_Liedertafel \n 
URL:https://www.mgv-walpersbach.at/event/liedertafel-zum-115-jaehrigen-jubilaeum/
LOCATION:Pfarr- und Gemeindezentrum\, Walpersbach\, Österreich
CATEGORIES:Gesangsvorführungen
END:VEVENT
BEGIN:VEVENT
DTSTART;TZID=Europe/Paris:20211003T110000
DTEND;TZID=Europe/Paris:20211003T170000
DTSTAMP:20260424T122001
CREATED:20210906T052940Z
LAST-MODIFIED:20211010T063100Z
UID:3683-1633258800-1633280400@www.mgv-walpersbach.at
SUMMARY:Herbstwanderung 2021
DESCRIPTION:Heuer gehen wir wieder in die Stupferei. Die Wanderung startet am Schulplatz um 10:00 Uhr. Der Abschluss findet wie immer im Gasthaus Bretterecker statt.​
URL:https://www.mgv-walpersbach.at/event/herbstwanderung-2021/
CATEGORIES:Wanderungen
END:VEVENT
BEGIN:VEVENT
DTSTART;TZID=Europe/Paris:20201004T110000
DTEND;TZID=Europe/Paris:20201004T160000
DTSTAMP:20260424T122001
CREATED:20200910T083447Z
LAST-MODIFIED:20201005T150156Z
UID:3435-1601809200-1601827200@www.mgv-walpersbach.at
SUMMARY:Herbstwanderung 2020
DESCRIPTION:Herbstwanderung 2020 \nDie Wanderung startet am Schulplatz um 10:00 Uhr und führt über Enterstein\, Wiesboden\, entlang des Eurovelo 9 nach Bad Erlach zur Hubertuskapelle\, weiter über den Ziegelofen zum Harrathof\, wo eine kurze Rast geplant ist – danach über Steinberg wieder zurück nach Walpersbach. Gesamtstreckenlänge ca. 8 km \nDer Abschluss findet im Gasthaus Bretterecker statt.​
URL:https://www.mgv-walpersbach.at/event/herbstwanderung/
LOCATION:Walpersbach
CATEGORIES:Wanderungen
END:VEVENT
BEGIN:VEVENT
DTSTART;TZID=Europe/Paris:20200611T160000
DTEND;TZID=Europe/Paris:20200611T180000
DTSTAMP:20260424T122001
CREATED:20200312T085651Z
LAST-MODIFIED:20200312T085651Z
UID:3428-1591891200-1591898400@www.mgv-walpersbach.at
SUMMARY:Liedernachmittag mit besonderer Einladung der Senioren
DESCRIPTION:
URL:https://www.mgv-walpersbach.at/event/liedernachmittag-mit-besonderer-einladung-der-senioren-3/
LOCATION:Pfarr- und Gemeindezentrum\, Walpersbach\, Österreich
END:VEVENT
BEGIN:VEVENT
DTSTART;TZID=Europe/Paris:20200601T103000
DTEND;TZID=Europe/Paris:20200601T113000
DTSTAMP:20260424T122001
CREATED:20200312T085405Z
LAST-MODIFIED:20200312T085405Z
UID:3425-1591007400-1591011000@www.mgv-walpersbach.at
SUMMARY:Kirtag Schleinz – Mitgestaltung der Hl. Messe
DESCRIPTION:
URL:https://www.mgv-walpersbach.at/event/kirtag-schleinz-mitgestaltung-der-hl-messe-2/
LOCATION:Kapelle in Schleinz\, Österreich
CATEGORIES:Gesangsvorführungen
END:VEVENT
BEGIN:VEVENT
DTSTART;TZID=Europe/Paris:20200503T093000
DTEND;TZID=Europe/Paris:20200503T103000
DTSTAMP:20260424T122001
CREATED:20200312T085323Z
LAST-MODIFIED:20200312T085444Z
UID:3423-1588498200-1588501800@www.mgv-walpersbach.at
SUMMARY:Florianimesse
DESCRIPTION:
URL:https://www.mgv-walpersbach.at/event/florianimesse-4/
LOCATION:Pfarrkirche Walpersbach\, Österreich
CATEGORIES:Gesangsvorführungen
END:VEVENT
BEGIN:VEVENT
DTSTART;TZID=Europe/Paris:20200222T213000
DTEND;TZID=Europe/Paris:20200223T033000
DTSTAMP:20260424T122001
CREATED:20191212T063616Z
LAST-MODIFIED:20200129T163406Z
UID:3206-1582407000-1582428600@www.mgv-walpersbach.at
SUMMARY:30. Sängergschnas
DESCRIPTION:
URL:https://www.mgv-walpersbach.at/event/30-saengergschnas/
LOCATION:Pfarr- und Gemeindezentrum\, Walpersbach\, Österreich
CATEGORIES:Veranstaltungen
END:VEVENT
END:VCALENDAR